BEGIN:VCALENDAR
VERSION:2.0
PRODID:-//Falls Church Concert Band - ECPv6.15.17.1//NONSGML v1.0//EN
CALSCALE:GREGORIAN
METHOD:PUBLISH
X-WR-CALNAME:Falls Church Concert Band
X-ORIGINAL-URL:https://www.fallschurchconcertband.org
X-WR-CALDESC:Events for Falls Church Concert Band
REFRESH-INTERVAL;VALUE=DURATION:PT1H
X-Robots-Tag:noindex
X-PUBLISHED-TTL:PT1H
BEGIN:VTIMEZONE
TZID:America/New_York
BEGIN:DAYLIGHT
TZOFFSETFROM:-0500
TZOFFSETTO:-0400
TZNAME:EDT
DTSTART:20250309T070000
END:DAYLIGHT
BEGIN:STANDARD
TZOFFSETFROM:-0400
TZOFFSETTO:-0500
TZNAME:EST
DTSTART:20251102T060000
END:STANDARD
BEGIN:DAYLIGHT
TZOFFSETFROM:-0500
TZOFFSETTO:-0400
TZNAME:EDT
DTSTART:20260308T070000
END:DAYLIGHT
BEGIN:STANDARD
TZOFFSETFROM:-0400
TZOFFSETTO:-0500
TZNAME:EST
DTSTART:20261101T060000
END:STANDARD
BEGIN:DAYLIGHT
TZOFFSETFROM:-0500
TZOFFSETTO:-0400
TZNAME:EDT
DTSTART:20270314T070000
END:DAYLIGHT
BEGIN:STANDARD
TZOFFSETFROM:-0400
TZOFFSETTO:-0500
TZNAME:EST
DTSTART:20271107T060000
END:STANDARD
END:VTIMEZONE
BEGIN:VEVENT
DTSTART;TZID=America/New_York:20260606T150000
DTEND;TZID=America/New_York:20260606T160000
DTSTAMP:20260423T163655
CREATED:20260410T170919Z
LAST-MODIFIED:20260410T205444Z
UID:1346-1780758000-1780761600@www.fallschurchconcertband.org
SUMMARY:National Concert Band Festival
DESCRIPTION:The Falls Church Concert Band will be performing at the prestigious National Concert Band Festival at Center for the Arts Concert Hall at George Mason University! Catch their performance on June 6 at 3:00 PM as they share the stage with outstanding ensembles in a celebration of community band excellence.
URL:https://www.fallschurchconcertband.org/event/national-concert-band-festival-060626/
LOCATION:George Mason University Center for the Arts\, 4373 Mason Pond Dr\, Fairfax\, VA\, 22030\, United States
ATTACH;FMTTYPE=image/jpeg:https://www.fallschurchconcertband.org/wp-content/uploads/2025/07/cropped-FCCB2025banner-scaled-1.jpg
END:VEVENT
BEGIN:VEVENT
DTSTART;TZID=America/New_York:20260618T190000
DTEND;TZID=America/New_York:20260618T200000
DTSTAMP:20260423T163655
CREATED:20260410T171343Z
LAST-MODIFIED:20260410T172640Z
UID:1350-1781809200-1781812800@www.fallschurchconcertband.org
SUMMARY:Cherry Hill Park Concert
DESCRIPTION:Join the Falls Church Concert Band at the Cherry Hill Park Summer Concerts in the Park series. This free\, family-friendly event features soloist Danielle Randolph and a “Heroes and Villains” theme with film scores\, musicals\, as well as patriotic favorites paying tribute to Juneteenth. Bring a chair or blanket! Admission is free.
URL:https://www.fallschurchconcertband.org/event/cherry-hill-park-concert-061826/
LOCATION:Cherry Hill Park\, 312 Park Ave\, Falls Church\, VA\, 22046\, United States
ATTACH;FMTTYPE=image/png:https://www.fallschurchconcertband.org/wp-content/uploads/2026/04/cherry-hill.png
END:VEVENT
BEGIN:VEVENT
DTSTART;TZID=America/New_York:20260724T193000
DTEND;TZID=America/New_York:20260724T203000
DTSTAMP:20260423T163655
CREATED:20260410T171807Z
LAST-MODIFIED:20260422T165529Z
UID:1355-1784921400-1784925000@www.fallschurchconcertband.org
SUMMARY:Mason District Park Concert
DESCRIPTION:Kick off your weekend with a Falls Church Concert Band performance at Mason District Park\, part of the Arts in the Park Performance Series! This 60-minute performance is completely FREE\, held outdoors\, making it the perfect night out for friends and family. Bring a blanket or a lawn chair and get ready to enjoy an evening of wonderful music under the stars! \nSee fairfaxcounty.gov/parks/performances for details\, starting May 15\, 2026.  \nCall (571) 202-7469 for rain cancellation; updates are recorded one hour prior to the concert time.
URL:https://www.fallschurchconcertband.org/event/mason-district-park-concert-072426/
LOCATION:Mason District Park\, 6621 Columbia Pike\, Annandale\, VA\, 22003\, United States
ATTACH;FMTTYPE=image/jpeg:https://www.fallschurchconcertband.org/wp-content/uploads/2026/04/Mason-District-Park.jpg
END:VEVENT
END:VCALENDAR