BEGIN:VCALENDAR
VERSION:2.0
PRODID:-//Falls Church Concert Band - ECPv6.15.17.1//NONSGML v1.0//EN
CALSCALE:GREGORIAN
METHOD:PUBLISH
X-WR-CALNAME:Falls Church Concert Band
X-ORIGINAL-URL:https://www.fallschurchconcertband.org
X-WR-CALDESC:Events for Falls Church Concert Band
REFRESH-INTERVAL;VALUE=DURATION:PT1H
X-Robots-Tag:noindex
X-PUBLISHED-TTL:PT1H
BEGIN:VTIMEZONE
TZID:America/New_York
BEGIN:DAYLIGHT
TZOFFSETFROM:-0500
TZOFFSETTO:-0400
TZNAME:EDT
DTSTART:20250309T070000
END:DAYLIGHT
BEGIN:STANDARD
TZOFFSETFROM:-0400
TZOFFSETTO:-0500
TZNAME:EST
DTSTART:20251102T060000
END:STANDARD
BEGIN:DAYLIGHT
TZOFFSETFROM:-0500
TZOFFSETTO:-0400
TZNAME:EDT
DTSTART:20260308T070000
END:DAYLIGHT
BEGIN:STANDARD
TZOFFSETFROM:-0400
TZOFFSETTO:-0500
TZNAME:EST
DTSTART:20261101T060000
END:STANDARD
BEGIN:DAYLIGHT
TZOFFSETFROM:-0500
TZOFFSETTO:-0400
TZNAME:EDT
DTSTART:20270314T070000
END:DAYLIGHT
BEGIN:STANDARD
TZOFFSETFROM:-0400
TZOFFSETTO:-0500
TZNAME:EST
DTSTART:20271107T060000
END:STANDARD
END:VTIMEZONE
BEGIN:VEVENT
DTSTART;TZID=America/New_York:20260425T080000
DTEND;TZID=America/New_York:20260425T090000
DTSTAMP:20260423T113430
CREATED:20260316T140132Z
LAST-MODIFIED:20260410T170101Z
UID:1318-1777104000-1777107600@www.fallschurchconcertband.org
SUMMARY:Honor Flight Performance
DESCRIPTION:The Falls Church Concert Band is proud to support Honor Flights at Ronald Reagan Washington National Airport to welcome veterans with music and gratitude. These performances help create unforgettable\, heartfelt arrivals for those who served. Honoring heroes\, one note at a time.
URL:https://www.fallschurchconcertband.org/event/honor-flight-performance-042526/
LOCATION:Ronald Reagan Washington National Airport\, 2401 Smith Blvd\, Arlington\, VA\, 22202\, United States
CATEGORIES:Performance
ATTACH;FMTTYPE=image/jpeg:https://www.fallschurchconcertband.org/wp-content/uploads/2026/03/Honor-Flight.jpg
END:VEVENT
BEGIN:VEVENT
DTSTART;TZID=America/New_York:20260525T103000
DTEND;TZID=America/New_York:20260525T113000
DTSTAMP:20260423T113430
CREATED:20260316T141431Z
LAST-MODIFIED:20260410T170247Z
UID:1320-1779705000-1779708600@www.fallschurchconcertband.org
SUMMARY:Memorial Day Performance
DESCRIPTION:The Falls Church Concert Band continues their performances for a moving Memorial Day tribute at the City of Falls Church Community Center. Enjoy a pre-ceremony concert at 10:45 AM\, followed by the official ceremony at 11:00 AM to honor those who served with music\, remembrance\, and community.
URL:https://www.fallschurchconcertband.org/event/memorial-day-performance-052526/
LOCATION:City of Falls Church Community Center\, 223 Little Falls St\, Falls Church\, VA\, 22046\, United States
CATEGORIES:Performance
ATTACH;FMTTYPE=image/jpeg:https://www.fallschurchconcertband.org/wp-content/uploads/2026/03/Memorial-Day-concert.jpg
END:VEVENT
END:VCALENDAR